Workbook
Name __123Graph_A: '[1]SUMMARY TABLE'!$C$8:$Q$8
Name __123Graph_AADVANCE: '[2]Daily-Monitoring'!#REF!
Name __123Graph_ABSYSASST: [3]interv!$C$37:$K$37
Name __123Graph_ACBASSETS: [3]interv!$C$34:$K$34
Name __123Graph_ACBAWKLY: [3]interv!#REF!
Name __123Graph_ACurrent: '[4]Summary BOP'!#REF!
Name __123Graph_AERDOLLAR: '[5]ex rate'!$F$30:$AM$30
Name __123Graph_AERRUBLE: '[5]ex rate'!$F$31:$AM$31
Name __123Graph_AGDP: [6]AQ!#REF!
Name __123Graph_AGraph1: [7]INFlevel!#REF!
Name __123Graph_AMIMPMAC: [8]monimp!$E$38:$N$38
Name __123Graph_AMONIMP: [8]monimp!$E$31:$N$31
Name __123Graph_AMSWKLY: [8]interv!#REF!
Name __123Graph_AMULTVELO: [8]interv!$C$31:$K$31
Name __123Graph_AREALRATE: '[5]ex rate'!$F$36:$AU$36
Name __123Graph_AREER: [9]ER!#REF!
Name __123Graph_ARESCOV: [8]fiscout!$J$146:$J$166
Name __123Graph_ARUBRATE: '[5]ex rate'!$K$37:$AN$37
Name __123Graph_ASEIGNOR: [10]seignior!#REF!
Name __123Graph_AUSRATE: '[5]ex rate'!$K$36:$AN$36
Name __123Graph_B: '[1]SUMMARY TABLE'!$C$16:$Q$16
Name __123Graph_BBSYSASST: [8]interv!$C$38:$K$38
Name __123Graph_BCBASSETS: [8]interv!$C$35:$K$35
Name __123Graph_BCBAWKLY: [8]interv!#REF!
Name __123Graph_BCurrent: '[4]Summary BOP'!#REF!
Name __123Graph_BERDOLLAR: '[5]ex rate'!$F$36:$AM$36
Name __123Graph_BERRUBLE: '[5]ex rate'!$F$37:$AM$37
Name __123Graph_BGraph1: [7]INFlevel!#REF!
Name __123Graph_BMONIMP: [8]monimp!$E$38:$N$38
Name __123Graph_BMSWKLY: [8]interv!#REF!
Name __123Graph_BMULTVELO: [8]interv!$C$32:$K$32
Name __123Graph_BREALRATE: '[5]ex rate'!$F$37:$AU$37
Name __123Graph_BREER: [9]ER!#REF!
Name __123Graph_BRESCOV: [8]fiscout!$K$146:$K$166
Name __123Graph_BRUBRATE: '[5]ex rate'!$K$31:$AN$31
Name __123Graph_BSEIGNOR: [10]seignior!#REF!
Name __123Graph_BUSRATE: '[5]ex rate'!$K$30:$AN$30
Name __123Graph_C: '[1]SUMMARY TABLE'!$C$25:$S$25
Name __123Graph_CBSYSASST: [8]interv!$C$39:$K$39
Name __123Graph_CCBAWKLY: [8]interv!#REF!
Name __123Graph_CCurrent: '[4]Summary BOP'!#REF!
Name __123Graph_CREER: [9]ER!#REF!
Name __123Graph_CRESCOV: [8]fiscout!$I$146:$I$166
Name __123Graph_D: [11]E!#REF!
Name __123Graph_DCurrent: '[4]Summary BOP'!#REF!
Name __123Graph_E: [12]Exports!#REF!
Name __123Graph_ECurrent: '[4]Summary BOP'!#REF!
Name __123Graph_FCurrent: '[4]Summary BOP'!#REF!
Name __123Graph_X: '[1]SUMMARY TABLE'!$C$5:$S$5
Name __123Graph_XChart1: '[4]Summary BOP'!#REF!
Name __123Graph_XERDOLLAR: '[5]ex rate'!$F$15:$AM$15
Name __123Graph_XERRUBLE: '[5]ex rate'!$F$15:$AM$15
Name __123Graph_XRUBRATE: '[5]ex rate'!$K$15:$AN$15
Name __123Graph_XUSRATE: '[5]ex rate'!$K$15:$AN$15
Name _1__123Graph_ACPI_ER_LOG: [9]ER!#REF!
Name _11__123Graph_BSEIGNOR: [10]seignior!#REF!
Name _19__123Graph_XREALEX_WAGE: [13]PRIVATE!#REF!
Name _6__123Graph_ASEIGNOR: [10]seignior!#REF!
Name _7__123Graph_BCPI_ER_LOG: [9]ER!#REF!
Name _8__123Graph_BIBA_IBRD: [9]WB!#REF!

Sheet Tabela
B3: =IF('.'!$B$2=1,'.'!F5,IF('.'!$B$2=2,'.'!F12,IF('.'!$B$2=3,'.'!F22))) -> Inflacioni bazë dhe inflacioni i përgjithshëm
B4: https://bqk-kos.org/statistikat/serite-kohore/
B5: =IF('.'!$B$2=1,'.'!F6,IF('.'!$B$2=2,'.'!F13,IF('.'!$B$2=3,'.'!F23))) -> (Rritja vjetore, v-m-v)
B6: =(IF('.'!$B$2=1,'.'!F7,IF('.'!$B$2=2,'.'!F14,IF('.'!$B$2=3,'.'!F24)))) -> Përshkrimi | C6: =(IF('.'!$B$2=1,'.'!G7,IF('.'!$B$2=2,'.'!G14,IF('.'!$B$2=3,'.'!G22)))) -> Inflacioni i përgjithshëm | D6: =(IF('.'!$B$2=1,'.'!H7,IF('.'!$B$2=2,'.'!H14,IF('.'!$B$2=3,'.'!H22)))) -> Inflacioni bazë
B7: =IF('.'!$B$2=1,'.'!C6,IF('.'!$B$2=2,'.'!D6,IF('.'!$B$2=3,'.'!E6))) -> Janar | C7: -0.1 | D7: 0.6
B8: =IF('.'!$B$2=1,'.'!C7,IF('.'!$B$2=2,'.'!D7,IF('.'!$B$2=3,'.'!E7))) -> Shkurt | C8: 0.6 | D8: 0.8
B9: =IF('.'!$B$2=1,'.'!C8,IF('.'!$B$2=2,'.'!D8,IF('.'!$B$2=3,'.'!E8))) -> Mars | C9: -1 | D9: -0.4
B10: =IF('.'!$B$2=1,'.'!C9,IF('.'!$B$2=2,'.'!D9,IF('.'!$B$2=3,'.'!E9))) -> Prill | C10: -0.5 | D10: -0.5
B11: =IF('.'!$B$2=1,'.'!C10,IF('.'!$B$2=2,'.'!D10,IF('.'!$B$2=3,'.'!E10))) -> Maj | C11: -0.1 | D11: -0.9
B12: =IF('.'!$B$2=1,'.'!C11,IF('.'!$B$2=2,'.'!D11,IF('.'!$B$2=3,'.'!E11))) -> Qershor | C12: 0 | D12: -1.4
B13: =IF('.'!$B$2=1,'.'!C12,IF('.'!$B$2=2,'.'!D12,IF('.'!$B$2=3,'.'!E12))) -> Korrik | C13: 1.3 | D13: -1.3
B14: =IF('.'!$B$2=1,'.'!C13,IF('.'!$B$2=2,'.'!D13,IF('.'!$B$2=3,'.'!E13))) -> Gusht | C14: 1.1 | D14: -1.3
B15: =IF('.'!$B$2=1,'.'!C14,IF('.'!$B$2=2,'.'!D14,IF('.'!$B$2=3,'.'!E14))) -> Shtator | C15: -2.3 | D15: -1.3
B16: =IF('.'!$B$2=1,'.'!C15,IF('.'!$B$2=2,'.'!D15,IF('.'!$B$2=3,'.'!E15))) -> Tetor | C16: -3.6 | D16: -1.8
B17: =IF('.'!$B$2=1,'.'!C16,IF('.'!$B$2=2,'.'!D16,IF('.'!$B$2=3,'.'!E16))) -> Nëntor | C17: -4.1 | D17: -1.7
B18: =IF('.'!$B$2=1,'.'!C17,IF('.'!$B$2=2,'.'!D17,IF('.'!$B$2=3,'.'!E17))) -> 2004 Dhjetor | C18: -3.7 | D18: -1.7
... B261: =IF('.'!$B$2=1,'.'!C260,IF('.'!$B$2=2,'.'!D260,IF('.'!$B$2=3,'.'!E260))) -> Mars | C261: 2.9 | D261: 1.7284783
B262: Prill | C262: 3 | D262: 1.8344723
B263: Maj | C263: 3.6 | D263: 2
B264: Qershor | C264: 4.3 | D264: 2.1
B265: Korrik | C265: 4.3 | D265: 1.8
B266: Gusht | C266: 4.5 | D266: 1.7
B267: Shtator | C267: 4.7 | D267: 2.9
B268: Tetor | C268: 5.1 | D268: 3.1
B270: =IF('.'!$B$2=1,'.'!F16,IF('.'!$B$2=2,'.'!F18,IF('.'!$B$2=3,'.'!F20))) -> Sqarim: Inflacioni i përgjithshëm (IHÇK) Inflacioni bazë (IHÇK përjashtuar ushqimin dhe pijet joalkoolike, pijet alkoolike dhe duhanin, dhe energjinë) “ bold “ të dhënat e theksuara janë të reviduara

Sheet Burimi
B2: =IF('.'!$B$2=1,'.'!P7,IF('.'!$B$2=2,'.'!P8,IF('.'!$B$2=3,'.'!P9))) -> Burimi: ASK dhe kalkulimet e BQK-së.

Sheet Shënim
A3: =IF('.'!$B$2=1,'.'!M5,IF('.'!$B$2=2,'.'!O5,IF('.'!$B$2=3,'.'!P5))) -> Rëndësia e inflacionit bazë Inflacioni bazë shërben për të vlerësuar prirjen afatmesme dhe afatgjatë të nivelit të përgjithshëm të çmimeve. Supozohet se inflacioni bazë është pjesa e inflacionit, e cila lidhet me pritjet inflacioniste dhe presionin e kërkesës dhe nuk varet drejtpërdrejt nga goditjet e ofertës. Inflacioni bazë përdoret në aktivitetet analitike, parashikuese dhe kërkimore dhe gjithashtu në procesin e bërjes së politikës monetare. Tiparet më të rëndësishme të inflacionit bazë janë: · Zakonisht karakterizohet nga një luhatshmëri më e vogël me kalimin e kohës sesa inflacioni i përgjithshëm. · Ilustron tendencat e çmimeve të produkteve të cilat ndryshojnë në një masë më të vogël për shkak të luhatjeve të theksuara periodike dhe sezonale, të cilat zakonisht kanë natyrë të përkohshme. · Paraqet më qartë prirjen afatmesme dhe afatgjatë të rritjes së çmimeve të mallrave dhe shërbimeve të konsumit në ekonomi. · Është i dobishëm për të analizuar vlerësimin (ex post) e shkallës së ndikimit të politikës monetare. Ekzistojnë metoda të ndryshme të matjes së inflacionit bazë (metodat mekanike, metodat statistikore dhe metodat e bazuara në modele teorike), ndërsa Banka Qendrore e Kosovës për momentin llogaritë dhe publikon inflacionin bazë duke përdorur metoda mekanike (inflacioni neto i çmimeve të ushqimit, pijeve alkoolike dhe duhanit si dhe energjisë). Metodologjia BQK ka filluar me publikimin e inflacionit bazë në vitin 2022 duke përfshirë periudhën kohore që nga viti 2004. Si rezultat i luhatshmërisë së fortë të çmimeve të caktuara, IÇK, të paktën brenda një periudhe të shkurtër kohe, mund të mos tregojë me saktësi tendencën e rritjes afatgjatë të nivelit të përgjithshëm të çmimeve. Për këtë arsye, inflacioni bazë është ndërtuar për të përjashtuar ndikimin e atyre çmimeve të mallrave dhe shërbimeve që janë subjekt i goditjeve të ndryshme të kërkesës dhe ofertës dhe/ose që karakterizohen nga lëvizje të forta sezonale ku përfshihen ushqimi dhe pijet joalkoolike, pijet alkoolike dhe duhani si dhe energjia (rryma, gazi dhe lëndë djegëse të tjera). Llogaritjet janë bërë sipas metodologjisë së përdorur për llogaritjen e IÇK-së dhe bazohen në një bazë të dhënash të zbërthyer të indekseve elementare të çmimeve të mallrave dhe shërbimeve të konsumit të përpiluar nga Agjencia e Statistikave të Kosovës. | B3: =IF('.'!$B$2=1,'.'!P7,IF('.'!$B$2=2,'.'!P8,IF('.'!$B$2=3,'.'!P95))) -> Burimi: ASK dhe kalkulimet e BQK-së.
A4: =IF('.'!$B$2=1,'.'!M6,IF('.'!$B$2=2,'.'!O6,IF('.'!$B$2=3,'.'!P6))) -> Pas rishikimit të metodologjisë së vlerësimit të inflacionit bazë është përjashtuar edhe kategoria e përdorimit të pajisjeve për transportin personal për shkak të luhatjeve të mëdha të çmimeve të karburanteve si dhe janë normalizuar peshat e kategorive në kuadër të inflacionit bazë. Indeksi mujor llogaritet në raport me periudhën korresponduese të vitit paraardhës (vit pas viti), ndërsa indeksi vjetor është indeks mesatar në terma vjetorë. Inflacioni bazë nuk i nënshtrohet rregullimeve sezonale dhe paraqitet i rrumbullakosur në një shifër dhjetore.

Sheet .
M1: Inflacioni i përgjithshëm dhe inflacioni bazë
B2: 1 | M2: Headline and core inflation
B3: Shqip
B4: English
B5: Srpski | F5: Inflacioni bazë dhe inflacioni i përgjithshëm | M5: Rëndësia e inflacionit bazë Inflacioni bazë shërben për të vlerësuar prirjen afatmesme dhe afatgjatë të nivelit të përgjithshëm të çmimeve. Supozohet se inflacioni bazë është pjesa e inflacionit, e cila lidhet me pritjet inflacioniste dhe presionin e kërkesës dhe nuk varet drejtpërdrejt nga goditjet e ofertës. Inflacioni bazë përdoret në aktivitetet analitike, parashikuese dhe kërkimore dhe gjithashtu në procesin e bërjes së politikës monetare. Tiparet më të rëndësishme të inflacionit bazë janë: · Zakonisht karakterizohet nga një luhatshmëri më e vogël me kalimin e kohës sesa inflacioni i përgjithshëm. · Ilustron tendencat e çmimeve të produkteve të cilat ndryshojnë në një masë më të vogël për shkak të luhatjeve të theksuara periodike dhe sezonale, të cilat zakonisht kanë natyrë të përkohshme. · Paraqet më qartë prirjen afatmesme dhe afatgjatë të rritjes së çmimeve të mallrave dhe shërbimeve të konsumit në ekonomi. · Është i dobishëm për të analizuar vlerësimin (ex post) e shkallës së ndikimit të politikës monetare. Ekzistojnë metoda të ndryshme të matjes së inflacionit bazë (metodat mekanike, metodat statistikore dhe metodat e bazuara në modele teorike), ndërsa Banka Qendrore e Kosovës për momentin llogaritë dhe publikon inflacionin bazë duke përdorur metoda mekanike (inflacioni neto i çmimeve të ushqimit, pijeve alkoolike dhe duhanit si dhe energjisë). Metodologjia BQK ka filluar me publikimin e inflacionit bazë në vitin 2022 duke përfshirë periudhën kohore që nga viti 2004. Si rezultat i luhatshmërisë së fortë të çmimeve të caktuara, IÇK, të paktën brenda një periudhe të shkurtër kohe, mund të mos tregojë me saktësi tendencën e rritjes afatgjatë të nivelit të përgjithshëm të çmimeve. Për këtë arsye, inflacioni bazë është ndërtuar për të përjashtuar ndikimin e atyre çmimeve të mallrave dhe shërbimeve që janë subjekt i goditjeve të ndryshme të kërkesës dhe ofertës dhe/ose që karakterizohen nga lëvizje të forta sezonale ku përfshihen ushqimi dhe pijet joalkoolike, pijet alkoolike dhe duhani si dhe energjia (rryma, gazi dhe lëndë djegëse të tjera). Llogaritjet janë bërë sipas metodologjisë së përdorur për llogaritjen e IÇK-së dhe bazohen në një bazë të dhënash të zbërthyer të indekseve elementare të çmimeve të mallrave dhe shërbimeve të konsumit të përpiluar nga Agjencia e Statistikave të Kosovës. | O5: The importance of core inflation Core inflation serves to assess the medium and long-term trend of the general price level. It is assumed that core inflation is the part of inflation that is related to inflationary expectations and the pressure of demand and does not depend directly on supply shocks. Core inflation is used in analytical, forecasting and research activities and also in the monetary policy making process. The most important features of core inflation are: · Usually is characterized by less volatility over time than the headline inflation. · Illustrates product price trends that vary to a lesser extent due to significant periodic and seasonal fluctuations, which are usually temporary in nature. · It presents more clearly the medium and long-term trend of the prices increase of consumer goods and services in the economy. · It is useful to analyze the evaluation (ex post) of the degree of impact of monetary policy. There are different methods of measuring core inflation (mechanical methods, statistical methods and methods based on theoretical models), while the Central Bank of Kosovo currently calculates and publishes core inflation using mechanical methods (net inflation of food prices, alcoholic beverages and tobacco, as well as energy). Methodology CBK started to publish core inflation since 2022 including the period of time as of 2004. As a result of the strong volatility of certain prices, the CPI, at least within a short period of time, may not accurately indicate the long-term upward trend of the overall price level. For this reason, core inflation is constructed to exclude the impact of those prices of goods and services that are subject to various demand and supply shocks and/or that are characterized by strong seasonal movements including food and non-alcoholic beverages, alcoholic beverages and tobacco as well as energy (electricity, gas and other fuels). The calculations are made according to the methodology used to calculate the CPI and are based on a broken down database of elementary price indices of consumer goods and services compiled by the Kosovo Agency of Statistics. | P5: Važnost osnovne inflacije Osnovna inflacija služi za procenu srednjoročnog i dugoročnog trenda opšteg nivoa cena. Pretpostavlja se da je osnovna inflacija deo inflacije koja je povezana sa inflatornim očekivanjima i pritiskom potražnje i ne zavisi direktno od šokova ponude. Osnovna inflacija se koristi u analitičkim, prognostičkim i istraživačkim aktivnostima, kao i u procesu kreiranja monetarne politike. Najvažnije karakteristike osnovne inflacije su: · Obično se karakteriše od manje fluktacije tokom vremena nego od opšte inflacije. · Ilustruje kretanje cena proizvoda koje se menjaju u manjoj meri zbog značajnih periodičnih i sezonskih fluktuacija, koje su obično privremene prirode. · Jasnije prikazuje srednjoročni i dugoročni trend rasta cena potrošačkih dobara i usluga u privredi. · Korisno je analizirati (ex post) procenu stepena uticaja monetarne politike. Postoje različite metode merenja osnovne inflacije (mehaničke metode, statističke metode i metode zasnovane na teorijskim modelima), dok Centralna banka Kosova trenutno izračunava i objavljuje osnovnu inflaciju korišćenjem mehaničkih metoda (neto inflacija cena hrane, alkoholnih pića i duvana kao i energije). METODOLOGIJA CBK je počela da objavljuje osnovnu inflaciju 2022. godine uključujući vremenski period od 2004. godine. Kao ishod jake fluktacije određenih cena, ICK, barem u kratkom vremenskom periodu, može da ne prikazuje tačno kretanje dugoročnog rasta opšteg nivoa cena. Iz tog razloga, osnovna inflacija je izgrađena tako da isključi uticaj onih cena roba i usluga koje su podložne različitim šokovima ponude i potražnje i/ili koje karakteriziraju snažna sezonska kretanja uključujući hranu i bezalkoholna pića, alkoholna pića i duvan kao i energiju (struju, gas i ostala goriva). Proračuni su napravljeni prema metodologiji koja se koristi za izračunavanje ICK-a a zasnovana je na raščlanjenoj bazi podataka osnovnih indeksa cena robe široke potrošnje i usluga koju je sastavila Agencija za statistiku Kosova.
C6: Janar | D6: January | E6: Januar | F6: (Rritja vjetore, v-m-v) | M6: Pas rishikimit të metodologjisë së vlerësimit të inflacionit bazë është përjashtuar edhe kategoria e përdorimit të pajisjeve për transportin personal për shkak të luhatjeve të mëdha të çmimeve të karburanteve si dhe janë normalizuar peshat e kategorive në kuadër të inflacionit bazë. Indeksi mujor llogaritet në raport me periudhën korresponduese të vitit paraardhës (vit pas viti), ndërsa indeksi vjetor është indeks mesatar në terma vjetorë. Inflacioni bazë nuk i nënshtrohet rregullimeve sezonale dhe paraqitet i rrumbullakosur në një shifër dhjetore. | O6: After the revision of the methodology on core inflation estimates, it was excluded also the category of personal transportation equipment due to the significant fluctuations in fuel prices, and the categories weights were normalized within the core inflation. The monthly index is calculated in relation to the corresponding period of the previous year (year-on-year), while the annual index is an average index in annual terms. Core inflation is not subject to seasonal adjustments and is presented rounded to one decimal digit. | P6: Nakon pregleda metodologije za procenu osnovne inflacije, isključena je i kategorija korišćenja opreme za lični prevoz zbog velikih fluktacija cena goriva, a normalizovane su ponderisanje kategorija su u okviru osnovne inflacije. Mesečni indeks se izračunava u odnosu na odgovarajući period prethodne godine (iz godine u godinu), dok godišnji indeks je prosečan indeks u godišnjem smislu. Osnovna inflacija ne podleže sezonskih uređivanja i prikazuje se zaokruženo na jednu decimalu.
C7: Shkurt | D7: February | E7: Februar | F7: Përshkrimi | G7: Inflacioni i përgjithshëm | H7: Inflacioni bazë | P7: Burimi: ASK dhe kalkulimet e BQK-së.
C8: Mars | D8: March | E8: Mart | P8: Source: KAS and CBK calculations.
C9: Prill | D9: April | E9: April | P9: Izvor: KAS i CBK-a proračuni.
C10: Maj | D10: May | E10: Maj
C11: Qershor | D11: June | E11: Jun
C12: Korrik | D12: July | E12: Jul | F12: Core and headline inflation
C13: Gusht | D13: August | E13: Avgust | F13: (Annual growth, y-o-y)
C14: Shtator | D14: September | E14: Septembar | F14: Description | G14: Headline Inflation | H14: Core Inflation
C15: Tetor | D15: October | E15: Oktobar
C16: Nëntor | D16: November | E16: Novembar | F16: Sqarim: Inflacioni i përgjithshëm (IHÇK) Inflacioni bazë (IHÇK përjashtuar ushqimin dhe pijet joalkoolike, pijet alkoolike dhe duhanin, dhe energjinë) “ bold “ të dhënat e theksuara janë të reviduara
C17: 2004 Dhjetor | D17: 2004 December | E17: Decembar | F17: Revidimet janë rezultat i përditësimit të peshave në shportën e konsumit për vitin 2024 me publikimin e Raportit Vjetor të Indeksit të Harmonizuar të Çmimeve të Konsumit 2024 nga ASK, si dhe aplikimit të peshave të vitit 2025 për muajt janar dhe shkurt.
C18: Janar | D18: January | E18: Januar | F18: Note: Headline inflation (HICP) Core inflation (HICP excluding food and non-alcoholic beverages, alcoholic beverages and tobacco, and energy) “ bold “ revised numbers are denoted with 'bold'
C19: Shkurt | D19: February | E19: Februar | F19: The revisions result from the updated consumer basket weights for 2024, published in the 2024 Annual Report of the Harmonized Index of Consumer Prices by KAS, as well as the application of the 2025 weights for January and February.
C20: Mars | D20: March | E20: Mart | F20: Pojašnjenje: Opšta inflacija (HICP) Osnovna inflacija (HICP isključujući hranu i bezalkoholna pića, alkoholna pića i duvan i energiju) „podebljano“ istaknuti podaci su revidirani sa „podebljanim“
C21: Prill | D21: April | E21: April | F21: Revizije su rezultat ažuriranih pondera potrošačke korpe za 2024. godinu, objavljenih u Godišnjem izveštaju za Harmonizovani indeks potrošačkih cena za 2024. godinu od strane KAS-a, kao i primene pondera za 2025. godinu za januar i februar.
C22: Maj | D22: May | E22: Maj | F22: Opšta inflacija i osnovna inflacija | G22: Opšta inflacija | H22: Osnovna inflacija
C23: Qershor | D23: June | E23: Jun | F23: (Godišnji rast, g-u-g)
C24: Korrik | D24: July | E24: Jul | F24: Opis
C25: Gusht | D25: August | E25: Avgust
C26: Shtator | D26: September | E26: Septembar
C27: Tetor | D27: October | E27: Oktobar
C28: Nëntor | D28: November | E28: Novembar
C29: 2005 Dhjetor | D29: 2005 December | E29: 2005 Decembar
C30: Janar | D30: January | E30: Januar
C31: Shkurt | D31: February | E31: Februar
C32: Mars | D32: March | E32: Mart
C33: Prill | D33: April | E33: April
C34: Maj | D34: May | E34: Maj
C35: Qershor | D35: June | E35: Jun
C36: Korrik | D36: July | E36: Jul
... C269: 2025 Dhjetor | D269: 2025 December | E269: 2025 Decembar
